BEGIN:VCALENDAR
VERSION:2.0
PRODID:-//Ziber2013/
CALSCALE:GREGORIAN
BEGIN:VEVENT
UID:260478@https://www.bs-goedeherder.nl
DTSTART:20260529T133000
DTEND:20260529T160000
SUMMARY:Mariokart Toernooi
DESCRIPTION:<p>De Bassie organiseert: Mariokart Toernooi 2026\nNa het succes van vorig jaar organiseren we weer een Mario Kart toernooi voor de groepen 6\, 7 en 8.\nIn verschillende rondes wordt er gestreden om de felbegeerde Mario kart bokaal!\n\nInformatie over inschrijven en deelname volgt.</p>
LOCATION:De Goede Herder\, Montgolfierstraat 71\, 5703 EB Helmond
ATTACH;FMTTYPE=image/jpeg:/content/32133/agenda/clnt/4767c237dc3f490b82f9e3897afeb27f.png?width=1600&height=1200
SEQUENCE:0
DTSTAMP:20260422T103155
END:VEVENT
END:VCALENDAR
